BEGIN:VCALENDAR
VERSION:2.0
PRODID:-//ACG//Events//EN
CALSCALE:GREGORIAN
METHOD:PUBLISH
BEGIN:VTIMEZONE
TZID:America/Chicago
BEGIN:STANDARD
DTSTART:19701025T070000
TZOFFSETTO:-0600
TZOFFSETFROM:-0500
RRULE:FREQ=YEARLY;BYMONTH=11;BYDAY=1SU
END:STANDARD
BEGIN:DAYLIGHT
DTSTART:19700426T080000
TZOFFSETTO:-0500
TZOFFSETFROM:-0600
RRULE:FREQ=YEARLY;BYMONTH=3;BYDAY=2SU
END:DAYLIGHT
END:VTIMEZONE
BEGIN:VEVENT
UID:2025-ACG-NEBRASKA-YOUNG-PROFESSIONALS-SUMMER-SOCIAL
DTSTART;TZID=America/Chicago:20250827T160029
DTEND;TZID=America/Chicago:20250827T180037
STATUS:CONFIRMED
SUMMARY:2025 ACG Nebraska Young Professionals Summer Social
DESCRIPTION:
LOCATION:Bridges Trust HQ\n13333 California Street\nOmaha\\, NE 68154
URL:https://www.acg.org/nebraska/events/2025-acg-nebraska-young-profes
 sionals-summer-social
DTSTAMP:20260421T091441Z
END:VEVENT
END:VCALENDAR
