BEGIN:VCALENDAR
VERSION:2.0
PRODID:-//ACG//Events//EN
CALSCALE:GREGORIAN
METHOD:PUBLISH
BEGIN:VTIMEZONE
TZID:America/New_York
BEGIN:STANDARD
DTSTART:19701025T060000
TZOFFSETTO:-0500
TZOFFSETFROM:-0400
RRULE:FREQ=YEARLY;BYMONTH=11;BYDAY=1SU
END:STANDARD
BEGIN:DAYLIGHT
DTSTART:19700426T070000
TZOFFSETTO:-0400
TZOFFSETFROM:-0500
RRULE:FREQ=YEARLY;BYMONTH=3;BYDAY=2SU
END:DAYLIGHT
END:VTIMEZONE
BEGIN:VEVENT
UID:2025-ACG-MARYLAND-PORT-OF-BALTIMORE-AN-OVERVIEW-AND-BUSINESS-IMPLI
 CATIONS-IN-THE-MIDATLANTIC-REGION
DTSTART;TZID=America/New_York:20250912T080028
DTEND;TZID=America/New_York:20250912T093028
STATUS:CONFIRMED
SUMMARY:2025 ACG Maryland - Port of Baltimore: An Overview and Busines
 s Implications in the MidAtlantic Region
DESCRIPTION:
URL:https://www.acg.org/maryland/events/2025-acg-maryland-port-baltimo
 re-overview-and-business-implications-midatlantic
DTSTAMP:20260421T054845Z
END:VEVENT
END:VCALENDAR
