BEGIN:VCALENDAR
VERSION:2.0
PRODID:-//ACG//Events//EN
CALSCALE:GREGORIAN
METHOD:PUBLISH
BEGIN:VTIMEZONE
TZID:America/New_York
BEGIN:STANDARD
DTSTART:19701025T060000
TZOFFSETTO:-0500
TZOFFSETFROM:-0400
RRULE:FREQ=YEARLY;BYMONTH=11;BYDAY=1SU
END:STANDARD
BEGIN:DAYLIGHT
DTSTART:19700426T070000
TZOFFSETTO:-0400
TZOFFSETFROM:-0500
RRULE:FREQ=YEARLY;BYMONTH=3;BYDAY=2SU
END:DAYLIGHT
END:VTIMEZONE
BEGIN:VEVENT
UID:KTY-2025-08-ACG-KENTUCKY-GOLF-SCRAMBLE
DTSTART;TZID=America/New_York:20250818T083037
DTEND;TZID=America/New_York:20250818T143002
STATUS:CONFIRMED
SUMMARY:KTY 2025-08 ACG Kentucky Golf Scramble
DESCRIPTION:
LOCATION:University of Louisville Golf Club\n401 Champions Way\nSimpso
 nville\\, KY 40067
URL:https://www.acg.org/kentucky/events/kty-2025-08-acg-kentucky-golf-
 scramble
DTSTAMP:20260421T104350Z
END:VEVENT
END:VCALENDAR
