BEGIN:VCALENDAR
VERSION:2.0
PRODID:-//ACG//Events//EN
CALSCALE:GREGORIAN
METHOD:PUBLISH
BEGIN:VTIMEZONE
TZID:US/Eastern
BEGIN:STANDARD
DTSTART:19701025T060000
TZOFFSETTO:-0500
TZOFFSETFROM:-0400
RRULE:FREQ=YEARLY;BYMONTH=11;BYDAY=1SU
END:STANDARD
BEGIN:DAYLIGHT
DTSTART:19700426T070000
TZOFFSETTO:-0400
TZOFFSETFROM:-0500
RRULE:FREQ=YEARLY;BYMONTH=3;BYDAY=2SU
END:DAYLIGHT
END:VTIMEZONE
BEGIN:VEVENT
UID:2025-NFL-HAPPY-HOUR-AT-POUR-TAPROOM
DTSTART;TZID=US/Eastern:20250918T173046
DTEND;TZID=US/Eastern:20250918T193011
STATUS:CONFIRMED
SUMMARY:2025 NFL Happy Hour at Pour Taproom
DESCRIPTION:
LOCATION:Pour Taproom\n61 North Laura Street\nJacksonville\\, FL 32202
URL:https://www.acg.org/northflorida/events/2025-nfl-happy-hour-pour-t
 aproom
DTSTAMP:20260421T050204Z
END:VEVENT
END:VCALENDAR
