BEGIN:VCALENDAR
VERSION:2.0
PRODID:-//ACG//Events//EN
CALSCALE:GREGORIAN
METHOD:PUBLISH
BEGIN:VTIMEZONE
TZID:America/New_York
BEGIN:STANDARD
DTSTART:19701025T060000
TZOFFSETTO:-0500
TZOFFSETFROM:-0400
RRULE:FREQ=YEARLY;BYMONTH=11;BYDAY=1SU
END:STANDARD
BEGIN:DAYLIGHT
DTSTART:19700426T070000
TZOFFSETTO:-0400
TZOFFSETFROM:-0500
RRULE:FREQ=YEARLY;BYMONTH=3;BYDAY=2SU
END:DAYLIGHT
END:VTIMEZONE
BEGIN:VEVENT
UID:2025-ACG-NY-MIDDLE-MARKET-ON-THE-WATER
DTSTART;TZID=America/New_York:20250910T180044
DTEND;TZID=America/New_York:20250910T200044
STATUS:CONFIRMED
SUMMARY:2025 ACG NY Middle Market on the Water
DESCRIPTION:
LOCATION:Clipper City Tall Ship\n89 South Street\nNew York\\, NY 10038
URL:https://www.acg.org/nyc/events/2025-acg-ny-middle-market-water
DTSTAMP:20260421T085240Z
END:VEVENT
END:VCALENDAR
