BEGIN:VCALENDAR
VERSION:2.0
PRODID:-//ACG//Events//EN
CALSCALE:GREGORIAN
METHOD:PUBLISH
BEGIN:VTIMEZONE
TZID:America/Chicago
BEGIN:STANDARD
DTSTART:19701025T070000
TZOFFSETTO:-0600
TZOFFSETFROM:-0500
RRULE:FREQ=YEARLY;BYMONTH=11;BYDAY=1SU
END:STANDARD
BEGIN:DAYLIGHT
DTSTART:19700426T080000
TZOFFSETTO:-0500
TZOFFSETFROM:-0600
RRULE:FREQ=YEARLY;BYMONTH=3;BYDAY=2SU
END:DAYLIGHT
END:VTIMEZONE
BEGIN:VEVENT
UID:2025-AUGUST-14TH-ACG-ASA-NEXTGEN-S-AXE-THROWING-SUMMER-SOCIAL-IN-AUSTIN
DTSTART;TZID=America/Chicago:20250814T170040
DTEND;TZID=America/Chicago:20250814T190049
STATUS:CONFIRMED
SUMMARY:2025 August 14th ACG ASA NextGen's Axe Throwing & Summer Socia
 l in Austin
DESCRIPTION:
LOCATION:Brewtorium Brewery\n6015 Dillard Circle\nAustin\\, TX 78752
URL:https://www.acg.org/asa/events/2025-august-14th-acg-asa-nextgens-a
 xe-throwing-summer-social-austin
DTSTAMP:20260423T103756Z
END:VEVENT
END:VCALENDAR
