BEGIN:VCALENDAR
VERSION:2.0
PRODID:-//ACG//Events//EN
CALSCALE:GREGORIAN
METHOD:PUBLISH
BEGIN:VTIMEZONE
TZID:America/Indiana/Indianapolis
BEGIN:STANDARD
DTSTART:19701025T060000
TZOFFSETTO:-0500
TZOFFSETFROM:-0400
RRULE:FREQ=YEARLY;BYMONTH=11;BYDAY=1SU
END:STANDARD
BEGIN:DAYLIGHT
DTSTART:19700426T070000
TZOFFSETTO:-0400
TZOFFSETFROM:-0500
RRULE:FREQ=YEARLY;BYMONTH=3;BYDAY=2SU
END:DAYLIGHT
END:VTIMEZONE
BEGIN:VEVENT
UID:146546
DTSTART;TZID=America/Indiana/Indianapolis:20250826T170000
DTEND;TZID=America/Indiana/Indianapolis:20250826T180000
STATUS:CONFIRMED
SUMMARY:YACG Pickleball Club
DESCRIPTION:
LOCATION: Lakefront Pickleball Courts | 9265 Counselors Row\, Indiana
 polis\, IN 46240\n
URL:https://www.acg.org/indiana/events/yacg-pickleball-club-0
DTSTAMP:20260421T095131Z
END:VEVENT
END:VCALENDAR
