BEGIN:VCALENDAR
VERSION:2.0
PRODID:-//ACG//Events//EN
CALSCALE:GREGORIAN
METHOD:PUBLISH
BEGIN:VTIMEZONE
TZID:America/Edmonton
BEGIN:STANDARD
DTSTART:19700101T060000
TZOFFSETTO:-0700
TZOFFSETFROM:-0700
END:STANDARD
END:VTIMEZONE
BEGIN:VEVENT
UID:2025-ACG-SUMMER-SOCIAL-CALGARY
DTSTART;TZID=America/Edmonton:20250826T160009
DTEND;TZID=America/Edmonton:20250826T200009
STATUS:CONFIRMED
SUMMARY:2025 ACG Summer Social - Calgary DRAFT
DESCRIPTION:
URL:https://www.acg.org/calgary/events/2025-acg-summer-social-calgary-draft
DTSTAMP:20260421T091618Z
END:VEVENT
END:VCALENDAR
