BEGIN:VCALENDAR
VERSION:2.0
PRODID:-//ACG//Events//EN
CALSCALE:GREGORIAN
METHOD:PUBLISH
BEGIN:VTIMEZONE
TZID:America/Los_Angeles
BEGIN:STANDARD
DTSTART:19701025T090000
TZOFFSETTO:-0800
TZOFFSETFROM:-0700
RRULE:FREQ=YEARLY;BYMONTH=11;BYDAY=1SU
END:STANDARD
BEGIN:DAYLIGHT
DTSTART:19700426T100000
TZOFFSETTO:-0700
TZOFFSETFROM:-0800
RRULE:FREQ=YEARLY;BYMONTH=3;BYDAY=2SU
END:DAYLIGHT
END:VTIMEZONE
BEGIN:VEVENT
UID:YOUNG-EXECUTIVES-CIRCLE-BOWLING
DTSTART;TZID=America/Los_Angeles:20250923T170013
DTEND;TZID=America/Los_Angeles:20250923T190013
STATUS:CONFIRMED
SUMMARY:ACGSV Young Executives Circle - Bowling
DESCRIPTION:
LOCATION:Homestead Bowl & The X Bar\, 20990 Homestead Rd\, Cupertino\,
  CA 95014\n20990 Homestead Road\nCupertino\\, CA 95014
URL:https://www.acg.org/sv/events/acgsv-young-executives-circle-bowling
DTSTAMP:20260421T050205Z
END:VEVENT
END:VCALENDAR
