BEGIN:VCALENDAR
VERSION:2.0
PRODID:-//ACG//Events//EN
CALSCALE:GREGORIAN
METHOD:PUBLISH
BEGIN:VTIMEZONE
TZID:America/Edmonton
BEGIN:STANDARD
DTSTART:19700101T060000
TZOFFSETTO:-0700
TZOFFSETFROM:-0700
END:STANDARD
END:VTIMEZONE
BEGIN:VEVENT
UID:2025-CGY-ACG-SUMMER-SOCIAL-CALGARY
DTSTART;TZID=America/Edmonton:20250826T160000
DTEND;TZID=America/Edmonton:20250826T200000
STATUS:CONFIRMED
SUMMARY:2025 CAL ACG Summer Social - Calgary
DESCRIPTION:
LOCATION:National On 10th\n341 10 Avenue Southwest\nCalgary\\, AB T2R 0C5
URL:https://www.acg.org/calgary/events/2025-cal-acg-summer-social-calgary
DTSTAMP:20260421T105302Z
END:VEVENT
END:VCALENDAR
