BEGIN:VCALENDAR
VERSION:2.0
PRODID:-//ACG//Events//EN
CALSCALE:GREGORIAN
METHOD:PUBLISH
BEGIN:VTIMEZONE
TZID:America/Los_Angeles
BEGIN:STANDARD
DTSTART:19701025T090000
TZOFFSETTO:-0800
TZOFFSETFROM:-0700
RRULE:FREQ=YEARLY;BYMONTH=11;BYDAY=1SU
END:STANDARD
BEGIN:DAYLIGHT
DTSTART:19700426T100000
TZOFFSETTO:-0700
TZOFFSETFROM:-0800
RRULE:FREQ=YEARLY;BYMONTH=3;BYDAY=2SU
END:DAYLIGHT
END:VTIMEZONE
BEGIN:VEVENT
UID:ACGOC-LAUNCH-POD-BREAKFAST-10-08-25
DTSTART;TZID=America/Los_Angeles:20251008T073006
DTEND;TZID=America/Los_Angeles:20251008T090033
STATUS:CONFIRMED
SUMMARY:ACGOC | Launch POD Breakfast | 10.08.25
DESCRIPTION:
LOCATION:Bahia Yacht Club\n1601 Bayside Drive\nNewport Beach\\, CA 92625
URL:https://www.acg.org/occ/events/acgoc-launch-pod-breakfast-100825
DTSTAMP:20260421T014217Z
END:VEVENT
END:VCALENDAR
