BEGIN:VCALENDAR
VERSION:2.0
PRODID:-//ACG//Events//EN
CALSCALE:GREGORIAN
METHOD:PUBLISH
BEGIN:VTIMEZONE
TZID:America/Edmonton
BEGIN:STANDARD
DTSTART:19700101T060000
TZOFFSETTO:-0700
TZOFFSETFROM:-0700
END:STANDARD
END:VTIMEZONE
BEGIN:VEVENT
UID:146606
DTSTART;TZID=America/Edmonton:20250917T163000
DTEND;TZID=America/Edmonton:20250917T190000
STATUS:CONFIRMED
SUMMARY:ACG Edmonton Casino Night Mixer 2025
DESCRIPTION:
LOCATION:Grand Villa Casino\nGrand Villa Casino\n10204 104 Ave NW\nEdm
 onton\\, AB T5J 0H6
URL:https://www.acg.org/edmonton/events/acg-edmonton-casino-night-mixe
 r-2025
DTSTAMP:20260421T051140Z
END:VEVENT
END:VCALENDAR
