BEGIN:VCALENDAR
VERSION:2.0
PRODID:-//ACG//Events//EN
CALSCALE:GREGORIAN
METHOD:PUBLISH
BEGIN:VTIMEZONE
TZID:America/Los_Angeles
BEGIN:STANDARD
DTSTART:19701025T090000
TZOFFSETTO:-0800
TZOFFSETFROM:-0700
RRULE:FREQ=YEARLY;BYMONTH=11;BYDAY=1SU
END:STANDARD
BEGIN:DAYLIGHT
DTSTART:19700426T100000
TZOFFSETTO:-0700
TZOFFSETFROM:-0800
RRULE:FREQ=YEARLY;BYMONTH=3;BYDAY=2SU
END:DAYLIGHT
END:VTIMEZONE
BEGIN:VEVENT
UID:ACGOC-EVENING-WITH-NICOLE-A-DUKE-MANN-09-11-2025
DTSTART;TZID=America/Los_Angeles:20250911T170015
DTEND;TZID=America/Los_Angeles:20250911T190015
STATUS:CONFIRMED
SUMMARY:ACGOC | An Evening with Nicole A. "Duke" Mann | 09.11.2025
DESCRIPTION:
LOCATION:Westin South Coast Plaza\n686 Anton Boulevard\nCosta Mesa\\, 
 CA 92626
URL:https://www.acg.org/occ/events/acgoc-evening-nicole-duke-mann-09112025
DTSTAMP:20260421T060150Z
END:VEVENT
END:VCALENDAR
