BEGIN:VCALENDAR
VERSION:2.0
PRODID:-//ACG//Events//EN
CALSCALE:GREGORIAN
METHOD:PUBLISH
BEGIN:VTIMEZONE
TZID:America/New_York
BEGIN:STANDARD
DTSTART:19701025T060000
TZOFFSETTO:-0500
TZOFFSETFROM:-0400
RRULE:FREQ=YEARLY;BYMONTH=11;BYDAY=1SU
END:STANDARD
BEGIN:DAYLIGHT
DTSTART:19700426T070000
TZOFFSETTO:-0400
TZOFFSETFROM:-0500
RRULE:FREQ=YEARLY;BYMONTH=3;BYDAY=2SU
END:DAYLIGHT
END:VTIMEZONE
BEGIN:VEVENT
UID:2025-ACG-CHARLOTTE-FALL-KICKOFF-NETWORKING-NIGHT
DTSTART;TZID=America/New_York:20250924T180013
DTEND;TZID=America/New_York:20250924T200023
STATUS:CONFIRMED
SUMMARY:2025 ACG Charlotte Fall Kickoff Networking Night
DESCRIPTION:
LOCATION:Fahrenheit Charlotte\n222 South Caldwell Street\nCharlotte\\,
  NC 28202
URL:https://www.acg.org/charlotte/events/2025-acg-charlotte-fall-kicko
 ff-networking-night
DTSTAMP:20260421T050252Z
END:VEVENT
END:VCALENDAR
