BEGIN:VCALENDAR
VERSION:2.0
PRODID:-//ACG//Events//EN
CALSCALE:GREGORIAN
METHOD:PUBLISH
BEGIN:VTIMEZONE
TZID:America/Los_Angeles
BEGIN:STANDARD
DTSTART:19701025T090000
TZOFFSETTO:-0800
TZOFFSETFROM:-0700
RRULE:FREQ=YEARLY;BYMONTH=11;BYDAY=1SU
END:STANDARD
BEGIN:DAYLIGHT
DTSTART:19700426T100000
TZOFFSETTO:-0700
TZOFFSETFROM:-0800
RRULE:FREQ=YEARLY;BYMONTH=3;BYDAY=2SU
END:DAYLIGHT
END:VTIMEZONE
BEGIN:VEVENT
UID:ACG-LOS-ANGELES-STATE-OF-MIDDLE-MARKET-M-A-2025
DTSTART;TZID=America/Los_Angeles:20251112T170025
DTEND;TZID=America/Los_Angeles:20251112T200010
STATUS:CONFIRMED
SUMMARY:ACG Los Angeles | State of Middle Market M&A \, 2025
DESCRIPTION:
LOCATION:Shutters on the Beach\n1 Pico Boulevard\nSanta Monica\\, CA 90405
URL:https://www.acg.org/los-angeles/events/acg-los-angeles-state-middl
 e-market-ma-2025
DTSTAMP:20260422T092742Z
END:VEVENT
END:VCALENDAR
