BEGIN:VCALENDAR
VERSION:2.0
PRODID:-//ACG//Events//EN
CALSCALE:GREGORIAN
METHOD:PUBLISH
BEGIN:VTIMEZONE
TZID:America/New_York
BEGIN:STANDARD
DTSTART:19701025T060000
TZOFFSETTO:-0500
TZOFFSETFROM:-0400
RRULE:FREQ=YEARLY;BYMONTH=11;BYDAY=1SU
END:STANDARD
BEGIN:DAYLIGHT
DTSTART:19700426T070000
TZOFFSETTO:-0400
TZOFFSETFROM:-0500
RRULE:FREQ=YEARLY;BYMONTH=3;BYDAY=2SU
END:DAYLIGHT
END:VTIMEZONE
BEGIN:VEVENT
UID:ACG-NJ-NETWORKING-POWER-HOUR-SEPTEMBER-2025
DTSTART;TZID=America/New_York:20250925T083055
DTEND;TZID=America/New_York:20250925T093055
STATUS:CONFIRMED
SUMMARY:ACG NJ Networking Power Hour | September 25\, 2025
DESCRIPTION:
LOCATION:Virtual - ACG New Jersey\n
URL:https://www.acg.org/newjersey/events/acg-nj-networking-power-hour-
 september-25-2025
DTSTAMP:20260421T031602Z
END:VEVENT
END:VCALENDAR
