BEGIN:VCALENDAR
VERSION:2.0
PRODID:-//ACG//Events//EN
CALSCALE:GREGORIAN
METHOD:PUBLISH
BEGIN:VTIMEZONE
TZID:US/Eastern
BEGIN:STANDARD
DTSTART:19701025T060000
TZOFFSETTO:-0500
TZOFFSETFROM:-0400
RRULE:FREQ=YEARLY;BYMONTH=11;BYDAY=1SU
END:STANDARD
BEGIN:DAYLIGHT
DTSTART:19700426T070000
TZOFFSETTO:-0400
TZOFFSETFROM:-0500
RRULE:FREQ=YEARLY;BYMONTH=3;BYDAY=2SU
END:DAYLIGHT
END:VTIMEZONE
BEGIN:VEVENT
UID:2025-NFL-HAPPY-HOUR-AT-BARTACO
DTSTART;TZID=US/Eastern:20251016T173015
DTEND;TZID=US/Eastern:20251016T193038
STATUS:CONFIRMED
SUMMARY:2025 NFL Happy Hour at bartaco
DESCRIPTION:
LOCATION:bartaco\n1534 Oak Street\nJacksonville\\, FL 32204
URL:https://www.acg.org/northflorida/events/2025-nfl-happy-hour-bartaco
DTSTAMP:20260420T231524Z
END:VEVENT
END:VCALENDAR
