BEGIN:VCALENDAR
VERSION:2.0
PRODID:-//ACG//Events//EN
CALSCALE:GREGORIAN
METHOD:PUBLISH
BEGIN:VTIMEZONE
TZID:America/New_York
BEGIN:STANDARD
DTSTART:19701025T060000
TZOFFSETTO:-0500
TZOFFSETFROM:-0400
RRULE:FREQ=YEARLY;BYMONTH=11;BYDAY=1SU
END:STANDARD
BEGIN:DAYLIGHT
DTSTART:19700426T070000
TZOFFSETTO:-0400
TZOFFSETFROM:-0500
RRULE:FREQ=YEARLY;BYMONTH=3;BYDAY=2SU
END:DAYLIGHT
END:VTIMEZONE
BEGIN:VEVENT
UID:2025-NATIONAL-CAPITAL-HOLIDAY-SOCIAL
DTSTART;TZID=America/New_York:20251113T170040
DTEND;TZID=America/New_York:20251113T193040
STATUS:CONFIRMED
SUMMARY:2025 National Capital Holiday Social
DESCRIPTION:
LOCATION:Washington Golf and Country Club 3017 N. Glebe Road Arlington
 \, VA 22207\n3017 North Glebe Road\nArlington\\, VA 22207
URL:https://www.acg.org/national-capital/events/2025-national-capital-
 holiday-social
DTSTAMP:20260420T184029Z
END:VEVENT
END:VCALENDAR
