BEGIN:VCALENDAR
VERSION:2.0
PRODID:-//ACG//Events//EN
CALSCALE:GREGORIAN
METHOD:PUBLISH
BEGIN:VTIMEZONE
TZID:America/New_York
BEGIN:STANDARD
DTSTART:19701025T060000
TZOFFSETTO:-0500
TZOFFSETFROM:-0400
RRULE:FREQ=YEARLY;BYMONTH=11;BYDAY=1SU
END:STANDARD
BEGIN:DAYLIGHT
DTSTART:19700426T070000
TZOFFSETTO:-0400
TZOFFSETFROM:-0500
RRULE:FREQ=YEARLY;BYMONTH=3;BYDAY=2SU
END:DAYLIGHT
END:VTIMEZONE
BEGIN:VEVENT
UID:2025-ACG-NY-DEALMAKER-DEALSOURCE-OCTOBER-EDITION
DTSTART;TZID=America/New_York:20250925T180023
DTEND;TZID=America/New_York:20250925T200023
STATUS:CONFIRMED
SUMMARY:2025 ACG NY Dealmaker DealSource – Fall Edition
DESCRIPTION:
LOCATION:New York Athletic Club\n180 Central Park South\nNew York\\, N
 Y 10019
URL:https://www.acg.org/nyc/events/2025-acg-ny-dealmaker-dealsource-fa
 ll-edition
DTSTAMP:20260421T024408Z
END:VEVENT
END:VCALENDAR
