BEGIN:VCALENDAR
VERSION:2.0
PRODID:-//ACG//Events//EN
CALSCALE:GREGORIAN
METHOD:PUBLISH
BEGIN:VTIMEZONE
TZID:US/Mountain
BEGIN:STANDARD
DTSTART:19701025T080000
TZOFFSETTO:-0700
TZOFFSETFROM:-0600
RRULE:FREQ=YEARLY;BYMONTH=11;BYDAY=1SU
END:STANDARD
BEGIN:DAYLIGHT
DTSTART:19700426T090000
TZOFFSETTO:-0600
TZOFFSETFROM:-0700
RRULE:FREQ=YEARLY;BYMONTH=3;BYDAY=2SU
END:DAYLIGHT
END:VTIMEZONE
BEGIN:VEVENT
UID:WASATCH-BACK-NETWORKING-OCTOBER-8-INVITATION-ONLY
DTSTART;TZID=US/Mountain:20251008T163053
DTEND;TZID=US/Mountain:20251008T183053
STATUS:CONFIRMED
SUMMARY:Wasatch Back Networking - October 8 - Invitation Only
DESCRIPTION:
LOCATION:National Ability Center\n1000 Ability Way\nPark City\\, UT 84060
URL:https://www.acg.org/utah/events/wasatch-back-networking-october-8-
 invitation-only
DTSTAMP:20260421T005408Z
END:VEVENT
END:VCALENDAR
