BEGIN:VCALENDAR
VERSION:2.0
PRODID:-//ACG//Events//EN
CALSCALE:GREGORIAN
METHOD:PUBLISH
BEGIN:VTIMEZONE
TZID:America/New_York
BEGIN:STANDARD
DTSTART:19701025T060000
TZOFFSETTO:-0500
TZOFFSETFROM:-0400
RRULE:FREQ=YEARLY;BYMONTH=11;BYDAY=1SU
END:STANDARD
BEGIN:DAYLIGHT
DTSTART:19700426T070000
TZOFFSETTO:-0400
TZOFFSETFROM:-0500
RRULE:FREQ=YEARLY;BYMONTH=3;BYDAY=2SU
END:DAYLIGHT
END:VTIMEZONE
BEGIN:VEVENT
UID:NEXTGEN-SPEED-NETWORKING
DTSTART;TZID=America/New_York:20250918T173023
DTEND;TZID=America/New_York:20250918T193023
STATUS:CONFIRMED
SUMMARY:NextGen Speed Networking
DESCRIPTION:
LOCATION:800 Connecticut Ave NW\, 11th Floor\, Washington\, DC 20006\n
 800 Connecticut Avenue Northwest\nWashington\\, DC 20006
URL:https://www.acg.org/national-capital/events/nextgen-speed-networking
DTSTAMP:20260421T050123Z
END:VEVENT
END:VCALENDAR
