BEGIN:VCALENDAR
VERSION:2.0
PRODID:-//ACG//Events//EN
CALSCALE:GREGORIAN
METHOD:PUBLISH
BEGIN:VTIMEZONE
TZID:America/Chicago
BEGIN:STANDARD
DTSTART:19701025T070000
TZOFFSETTO:-0600
TZOFFSETFROM:-0500
RRULE:FREQ=YEARLY;BYMONTH=11;BYDAY=1SU
END:STANDARD
BEGIN:DAYLIGHT
DTSTART:19700426T080000
TZOFFSETTO:-0500
TZOFFSETFROM:-0600
RRULE:FREQ=YEARLY;BYMONTH=3;BYDAY=2SU
END:DAYLIGHT
END:VTIMEZONE
BEGIN:VEVENT
UID:111225-MEMPHIS-LUNCH-LEARN
DTSTART;TZID=America/Chicago:20251112T113025
DTEND;TZID=America/Chicago:20251112T130045
STATUS:CONFIRMED
SUMMARY:111225 ACG TN Lunch & Learn- Memphis
DESCRIPTION:
URL:https://www.acg.org/tennessee/events/111225-acg-tn-lunch-learn-memphis
DTSTAMP:20260420T203636Z
END:VEVENT
END:VCALENDAR
