BEGIN:VCALENDAR
VERSION:2.0
PRODID:-//ACG//Events//EN
CALSCALE:GREGORIAN
METHOD:PUBLISH
BEGIN:VTIMEZONE
TZID:America/New_York
BEGIN:STANDARD
DTSTART:19701025T060000
TZOFFSETTO:-0500
TZOFFSETFROM:-0400
RRULE:FREQ=YEARLY;BYMONTH=11;BYDAY=1SU
END:STANDARD
BEGIN:DAYLIGHT
DTSTART:19700426T070000
TZOFFSETTO:-0400
TZOFFSETFROM:-0500
RRULE:FREQ=YEARLY;BYMONTH=3;BYDAY=2SU
END:DAYLIGHT
END:VTIMEZONE
BEGIN:VEVENT
UID:2026-SEPTEMBER-BREAKFAST-AMPHITHEATER-PANEL-DISCUSSION
DTSTART;TZID=America/New_York:20250919T073011
DTEND;TZID=America/New_York:20250919T090024
STATUS:CONFIRMED
SUMMARY:2025RIC-September Breakfast - Amphitheater Panel Discussion
DESCRIPTION:
LOCATION:The Jefferson Hotel | Grand Ballroom\n101 West Franklin Stree
 t\nRichmond\\, VA 23220
URL:https://www.acg.org/richmond/events/2025ric-september-breakfast-am
 phitheater-panel-discussion
DTSTAMP:20260421T034113Z
END:VEVENT
END:VCALENDAR
