BEGIN:VCALENDAR
VERSION:2.0
PRODID:-//ACG//Events//EN
CALSCALE:GREGORIAN
METHOD:PUBLISH
BEGIN:VTIMEZONE
TZID:America/New_York
BEGIN:STANDARD
DTSTART:19701025T060000
TZOFFSETTO:-0500
TZOFFSETFROM:-0400
RRULE:FREQ=YEARLY;BYMONTH=11;BYDAY=1SU
END:STANDARD
BEGIN:DAYLIGHT
DTSTART:19700426T070000
TZOFFSETTO:-0400
TZOFFSETFROM:-0500
RRULE:FREQ=YEARLY;BYMONTH=3;BYDAY=2SU
END:DAYLIGHT
END:VTIMEZONE
BEGIN:VEVENT
UID:2025RIC-KEYNOTE-BREAKFAST-AT-THE-VIRGINIA-CAPITAL-CONFERENCE
DTSTART;TZID=America/New_York:20251009T073043
DTEND;TZID=America/New_York:20251009T100010
STATUS:CONFIRMED
SUMMARY:2025RIC - Keynote Breakfast at the Virginia Capital Conference
DESCRIPTION:
LOCATION:The Jefferson Hotel | Grand Ballroom\n101 West Franklin Stree
 t\nRichmond\\, VA 23220
URL:https://www.acg.org/richmond/events/2025ric-keynote-breakfast-virg
 inia-capital-conference
DTSTAMP:20260421T031746Z
END:VEVENT
END:VCALENDAR
