BEGIN:VCALENDAR
VERSION:2.0
PRODID:-//ACG//Events//EN
CALSCALE:GREGORIAN
METHOD:PUBLISH
BEGIN:VTIMEZONE
TZID:America/New_York
BEGIN:STANDARD
DTSTART:19701025T060000
TZOFFSETTO:-0500
TZOFFSETFROM:-0400
RRULE:FREQ=YEARLY;BYMONTH=11;BYDAY=1SU
END:STANDARD
BEGIN:DAYLIGHT
DTSTART:19700426T070000
TZOFFSETTO:-0400
TZOFFSETFROM:-0500
RRULE:FREQ=YEARLY;BYMONTH=3;BYDAY=2SU
END:DAYLIGHT
END:VTIMEZONE
BEGIN:VEVENT
UID:2025RIC-NOVEMBER-BREAKFAST-HEIDI-NEL
DTSTART;TZID=America/New_York:20251107T073046
DTEND;TZID=America/New_York:20251107T090007
STATUS:CONFIRMED
SUMMARY:2025RIC-November Breakfast - Heidi Nel
DESCRIPTION:
LOCATION:Willow Oaks County Club\n6228 Forest Hill Avenue\nRichmond\\,
  VA 23225
URL:https://www.acg.org/richmond/events/2025ric-november-breakfast-hei
 di-nel
DTSTAMP:20260420T185835Z
END:VEVENT
END:VCALENDAR
