BEGIN:VCALENDAR
VERSION:2.0
PRODID:-//ACG//Events//EN
CALSCALE:GREGORIAN
METHOD:PUBLISH
BEGIN:VTIMEZONE
TZID:America/Los_Angeles
BEGIN:STANDARD
DTSTART:19701025T090000
TZOFFSETTO:-0800
TZOFFSETFROM:-0700
RRULE:FREQ=YEARLY;BYMONTH=11;BYDAY=1SU
END:STANDARD
BEGIN:DAYLIGHT
DTSTART:19700426T100000
TZOFFSETTO:-0700
TZOFFSETFROM:-0800
RRULE:FREQ=YEARLY;BYMONTH=3;BYDAY=2SU
END:DAYLIGHT
END:VTIMEZONE
BEGIN:VEVENT
UID:ACG-SEA-I-TAKE-ME-OUT-TO-THE-BALLGAME-EXTRA-TICKETS-AVAILABLE
DTSTART;TZID=America/Los_Angeles:20250908T184018
DTEND;TZID=America/Los_Angeles:20250908T213030
STATUS:CONFIRMED
SUMMARY:ACG SEA I Take Me Out To The Ballgame - Extra Tickets Available!
DESCRIPTION:
LOCATION:T-Mobile Park - Edgar's Home Run Porch\n1250 1st Avenue South
 \nSeattle\\, WA 98134
URL:https://www.acg.org/seattle/events/acg-sea-i-take-me-out-ballgame-
 extra-tickets-available
DTSTAMP:20260421T070653Z
END:VEVENT
END:VCALENDAR
