BEGIN:VCALENDAR
VERSION:2.0
PRODID:-//ACG//Events//EN
CALSCALE:GREGORIAN
METHOD:PUBLISH
BEGIN:VTIMEZONE
TZID:America/Los_Angeles
BEGIN:STANDARD
DTSTART:19701025T090000
TZOFFSETTO:-0800
TZOFFSETFROM:-0700
RRULE:FREQ=YEARLY;BYMONTH=11;BYDAY=1SU
END:STANDARD
BEGIN:DAYLIGHT
DTSTART:19700426T100000
TZOFFSETTO:-0700
TZOFFSETFROM:-0800
RRULE:FREQ=YEARLY;BYMONTH=3;BYDAY=2SU
END:DAYLIGHT
END:VTIMEZONE
BEGIN:VEVENT
UID:ACGOC-NEXTGEN-LUNCH-09-24-2025
DTSTART;TZID=America/Los_Angeles:20250924T120050
DTEND;TZID=America/Los_Angeles:20250924T130052
STATUS:CONFIRMED
SUMMARY:ACGOC | NextGen Lunch | 09.24.2025
DESCRIPTION:
LOCATION:Matisse Bistro\n19800 Macarthur Boulevard\nIrvine\\, CA 92612
URL:https://www.acg.org/occ/events/acgoc-nextgen-lunch-09242025
DTSTAMP:20260421T033946Z
END:VEVENT
END:VCALENDAR
