BEGIN:VCALENDAR
VERSION:2.0
PRODID:-//ACG//Events//EN
CALSCALE:GREGORIAN
METHOD:PUBLISH
BEGIN:VTIMEZONE
TZID:America/New_York
BEGIN:STANDARD
DTSTART:19701025T060000
TZOFFSETTO:-0500
TZOFFSETFROM:-0400
RRULE:FREQ=YEARLY;BYMONTH=11;BYDAY=1SU
END:STANDARD
BEGIN:DAYLIGHT
DTSTART:19700426T070000
TZOFFSETTO:-0400
TZOFFSETFROM:-0500
RRULE:FREQ=YEARLY;BYMONTH=3;BYDAY=2SU
END:DAYLIGHT
END:VTIMEZONE
BEGIN:VEVENT
UID:OCT-2-2025-ACG-757-LUNCHEON-NORFOLK-POWERHOUSE-THE-XKIG-STORY
DTSTART;TZID=America/New_York:20251002T113035
DTEND;TZID=America/New_York:20251002T133049
STATUS:CONFIRMED
SUMMARY:Oct 2\, 2025 ACG 757 Luncheon: Norfolk Powerhouse: The XKIG Story
DESCRIPTION:
LOCATION:Town Point Club\n101 West Main Street\nNorfolk\\, VA 23510
URL:https://www.acg.org/757-network/events/oct-2-2025-acg-757-luncheon
 -norfolk-powerhouse-xkig-story
DTSTAMP:20260421T024532Z
END:VEVENT
END:VCALENDAR
