BEGIN:VCALENDAR
VERSION:2.0
PRODID:-//ACG//Events//EN
CALSCALE:GREGORIAN
METHOD:PUBLISH
BEGIN:VTIMEZONE
TZID:US/Eastern
BEGIN:STANDARD
DTSTART:19701025T060000
TZOFFSETTO:-0500
TZOFFSETFROM:-0400
RRULE:FREQ=YEARLY;BYMONTH=11;BYDAY=1SU
END:STANDARD
BEGIN:DAYLIGHT
DTSTART:19700426T070000
TZOFFSETTO:-0400
TZOFFSETFROM:-0500
RRULE:FREQ=YEARLY;BYMONTH=3;BYDAY=2SU
END:DAYLIGHT
END:VTIMEZONE
BEGIN:VEVENT
UID:MA-SOUTH-2026
DTSTART;TZID=US/Eastern:20260202T100044
DTEND;TZID=US/Eastern:20260204T120004
STATUS:CONFIRMED
SUMMARY:M&A South 2026
DESCRIPTION:
LOCATION:Hotel at Avalon and Conference Center\n9000 Avalon Boulevard\
 nAlpharetta\\, GA 30009
URL:https://www.acg.org/atlanta/events/ma-south-2026
DTSTAMP:20260423T180134Z
END:VEVENT
END:VCALENDAR
