BEGIN:VCALENDAR
VERSION:2.0
PRODID:-//ACG//Events//EN
CALSCALE:GREGORIAN
METHOD:PUBLISH
BEGIN:VTIMEZONE
TZID:America/Los_Angeles
BEGIN:STANDARD
DTSTART:19701025T090000
TZOFFSETTO:-0800
TZOFFSETFROM:-0700
RRULE:FREQ=YEARLY;BYMONTH=11;BYDAY=1SU
END:STANDARD
BEGIN:DAYLIGHT
DTSTART:19700426T100000
TZOFFSETTO:-0700
TZOFFSETFROM:-0800
RRULE:FREQ=YEARLY;BYMONTH=3;BYDAY=2SU
END:DAYLIGHT
END:VTIMEZONE
BEGIN:VEVENT
UID:ACGIE-NEXTGEN-HAPPY-HOUR-10-09-2025
DTSTART;TZID=America/Los_Angeles:20251009T170022
DTEND;TZID=America/Los_Angeles:20251009T190042
STATUS:CONFIRMED
SUMMARY:ACGIE | NextGen Happy Hour | 10.09.2025
DESCRIPTION:
LOCATION:Hanger 24\n5225 Canyon Crest Drive\nRiverside\\, CA 92507
URL:https://www.acg.org/inlandempire/events/acgie-nextgen-happy-hour-1
 0092025
DTSTAMP:20260421T003553Z
END:VEVENT
END:VCALENDAR
