BEGIN:VCALENDAR
VERSION:2.0
PRODID:-//ACG//Events//EN
CALSCALE:GREGORIAN
METHOD:PUBLISH
BEGIN:VTIMEZONE
TZID:America/Phoenix
BEGIN:STANDARD
DTSTART:19700101T060000
TZOFFSETTO:-0700
TZOFFSETFROM:-0700
END:STANDARD
END:VTIMEZONE
BEGIN:VEVENT
UID:2025-ACG-AZ-WIB-WINE-TASTING-EVENT
DTSTART;TZID=America/Phoenix:20251001T170024
DTEND;TZID=America/Phoenix:20251001T173024
STATUS:CONFIRMED
SUMMARY:2025 ACG Women in Business: Connections Uncorked
DESCRIPTION:
URL:https://www.acg.org/arizona/events/2025-acg-women-business-connect
 ions-uncorked
DTSTAMP:20260421T024137Z
END:VEVENT
END:VCALENDAR
