BEGIN:VCALENDAR
VERSION:2.0
PRODID:-//ACG//Events//EN
CALSCALE:GREGORIAN
METHOD:PUBLISH
BEGIN:VTIMEZONE
TZID:America/Chicago
BEGIN:STANDARD
DTSTART:19701025T070000
TZOFFSETTO:-0600
TZOFFSETFROM:-0500
RRULE:FREQ=YEARLY;BYMONTH=11;BYDAY=1SU
END:STANDARD
BEGIN:DAYLIGHT
DTSTART:19700426T080000
TZOFFSETTO:-0500
TZOFFSETFROM:-0600
RRULE:FREQ=YEARLY;BYMONTH=3;BYDAY=2SU
END:DAYLIGHT
END:VTIMEZONE
BEGIN:VEVENT
UID:2025-SEPT-9TH-ACG-ASA-NEXTGEN-S-FREE-COFFEE-NETWORKING-MEET-UP-IN-
 AUSTIN
DTSTART;TZID=America/Chicago:20250909T083059
DTEND;TZID=America/Chicago:20250909T100023
STATUS:CONFIRMED
SUMMARY:2025 Sept. 9th ACG ASA NextGen’s FREE Coffee & Networking Me
 et-Up in Austin
DESCRIPTION:
LOCATION:Easy Tiger @ The Linc\n6406 North Interstate 35 Frontage Road
 \nAustin\\, TX 78752
URL:https://www.acg.org/asa/events/2025-sept-9th-acg-asa-nextgens-free
 -coffee-networking-meet-austin
DTSTAMP:20260421T070453Z
END:VEVENT
END:VCALENDAR
