BEGIN:VCALENDAR
VERSION:2.0
PRODID:-//ACG//Events//EN
CALSCALE:GREGORIAN
METHOD:PUBLISH
BEGIN:VTIMEZONE
TZID:America/New_York
BEGIN:STANDARD
DTSTART:19701025T060000
TZOFFSETTO:-0500
TZOFFSETFROM:-0400
RRULE:FREQ=YEARLY;BYMONTH=11;BYDAY=1SU
END:STANDARD
BEGIN:DAYLIGHT
DTSTART:19700426T070000
TZOFFSETTO:-0400
TZOFFSETFROM:-0500
RRULE:FREQ=YEARLY;BYMONTH=3;BYDAY=2SU
END:DAYLIGHT
END:VTIMEZONE
BEGIN:VEVENT
UID:ACG-PITTSBURGH-2025-NOVEMBER-PROGRAM
DTSTART;TZID=America/New_York:20251120T114548
DTEND;TZID=America/New_York:20251120T140009
STATUS:CONFIRMED
SUMMARY:ACG Pittsburgh 2025 November Program
DESCRIPTION:
LOCATION:Fairmont Hotel\n510 Market Street\nPittsburgh\\, PA 15222
URL:https://www.acg.org/pittsburgh/events/acg-pittsburgh-2025-november
 -program
DTSTAMP:20260420T162408Z
END:VEVENT
END:VCALENDAR
