BEGIN:VCALENDAR
VERSION:2.0
PRODID:-//ACG//Events//EN
CALSCALE:GREGORIAN
METHOD:PUBLISH
BEGIN:VTIMEZONE
TZID:America/New_York
BEGIN:STANDARD
DTSTART:19701025T060000
TZOFFSETTO:-0500
TZOFFSETFROM:-0400
RRULE:FREQ=YEARLY;BYMONTH=11;BYDAY=1SU
END:STANDARD
BEGIN:DAYLIGHT
DTSTART:19700426T070000
TZOFFSETTO:-0400
TZOFFSETFROM:-0500
RRULE:FREQ=YEARLY;BYMONTH=3;BYDAY=2SU
END:DAYLIGHT
END:VTIMEZONE
BEGIN:VEVENT
UID:FALL-2025-UPSTATE-SC-NETWORKING-LUNCHEON
DTSTART;TZID=America/New_York:20250929T113025
DTEND;TZID=America/New_York:20250929T130031
STATUS:CONFIRMED
SUMMARY:Fall 2025 Upstate SC Networking Luncheon
DESCRIPTION:
LOCATION:The Westin Poinsett – Gold Ballroom\n120 South Main Street\
 nGreenville\\, SC 29601
URL:https://www.acg.org/upstate-sc/events/fall-2025-upstate-sc-network
 ing-luncheon
DTSTAMP:20260421T024229Z
END:VEVENT
END:VCALENDAR
