BEGIN:VCALENDAR
VERSION:2.0
PRODID:-//ACG//Events//EN
CALSCALE:GREGORIAN
METHOD:PUBLISH
BEGIN:VTIMEZONE
TZID:America/Chicago
BEGIN:STANDARD
DTSTART:19701025T070000
TZOFFSETTO:-0600
TZOFFSETFROM:-0500
RRULE:FREQ=YEARLY;BYMONTH=11;BYDAY=1SU
END:STANDARD
BEGIN:DAYLIGHT
DTSTART:19700426T080000
TZOFFSETTO:-0500
TZOFFSETFROM:-0600
RRULE:FREQ=YEARLY;BYMONTH=3;BYDAY=2SU
END:DAYLIGHT
END:VTIMEZONE
BEGIN:VEVENT
UID:2025-OCT-10TH-WINE-DOWN-WITH-THE-WOMEN-OF-ACG-PODS
DTSTART;TZID=America/Chicago:20251010T110015
DTEND;TZID=America/Chicago:20251010T140031
STATUS:CONFIRMED
SUMMARY:2025 Oct. 10th WINE down with the women of ACG PODs
DESCRIPTION:
LOCATION:William Chris Vineyards\n10352 U.S. 290\nJohnson City\\, TX 78636
URL:https://www.acg.org/asa/events/2025-oct-10th-wine-down-women-acg-pods
DTSTAMP:20260421T003634Z
END:VEVENT
END:VCALENDAR
