BEGIN:VCALENDAR
VERSION:2.0
PRODID:-//ACG//Events//EN
CALSCALE:GREGORIAN
METHOD:PUBLISH
BEGIN:VTIMEZONE
TZID:America/New_York
BEGIN:STANDARD
DTSTART:19701025T060000
TZOFFSETTO:-0500
TZOFFSETFROM:-0400
RRULE:FREQ=YEARLY;BYMONTH=11;BYDAY=1SU
END:STANDARD
BEGIN:DAYLIGHT
DTSTART:19700426T070000
TZOFFSETTO:-0400
TZOFFSETFROM:-0500
RRULE:FREQ=YEARLY;BYMONTH=3;BYDAY=2SU
END:DAYLIGHT
END:VTIMEZONE
BEGIN:VEVENT
UID:CHARLESTON-VENTURE-FORWARD-BUILDING-THE-REGION-S-ENTREPRENEURSHIP-
 VC-ECOSYSTEM
DTSTART;TZID=America/New_York:20251014T163032
DTEND;TZID=America/New_York:20251014T183041
STATUS:CONFIRMED
SUMMARY:Venture Forward: Building the Region’s Entrepreneurship & VC
  Ecosystem
DESCRIPTION:
LOCATION:Blackbaud Inc: 65 Fairchild St\, Charleston\, SC 29492\n65 Fa
 irchild Street\nCharleston\\, SC 29492
URL:https://www.acg.org/charleston/events/venture-forward-building-reg
 ions-entrepreneurship-vc-ecosystem
DTSTAMP:20260421T005143Z
END:VEVENT
END:VCALENDAR
