BEGIN:VCALENDAR
VERSION:2.0
PRODID:-//ACG//Events//EN
CALSCALE:GREGORIAN
METHOD:PUBLISH
BEGIN:VTIMEZONE
TZID:US/Central
BEGIN:STANDARD
DTSTART:19701025T070000
TZOFFSETTO:-0600
TZOFFSETFROM:-0500
RRULE:FREQ=YEARLY;BYMONTH=11;BYDAY=1SU
END:STANDARD
BEGIN:DAYLIGHT
DTSTART:19700426T080000
TZOFFSETTO:-0500
TZOFFSETFROM:-0600
RRULE:FREQ=YEARLY;BYMONTH=3;BYDAY=2SU
END:DAYLIGHT
END:VTIMEZONE
BEGIN:VEVENT
UID:ACG-BIRMINGHAM-NETWORK-DISCUSSION-ON-BIG-BEAUTIFUL-BILL
DTSTART;TZID=US/Central:20251008T160019
DTEND;TZID=US/Central:20251008T180019
STATUS:CONFIRMED
SUMMARY:ACG Birmingham Network presents: A Discussion on the One Big B
 eautiful Bill
DESCRIPTION:
LOCATION:Warren Averett\n2500 Acton Road\nVestavia Hills\\, AL 35243
URL:https://www.acg.org/birminghamnetwork/events/acg-birmingham-networ
 k-presents-discussion-one-big-beautiful-bill
DTSTAMP:20260421T014022Z
END:VEVENT
END:VCALENDAR
