BEGIN:VCALENDAR
VERSION:2.0
PRODID:-//ACG//Events//EN
CALSCALE:GREGORIAN
METHOD:PUBLISH
BEGIN:VTIMEZONE
TZID:America/New_York
BEGIN:STANDARD
DTSTART:19701025T060000
TZOFFSETTO:-0500
TZOFFSETFROM:-0400
RRULE:FREQ=YEARLY;BYMONTH=11;BYDAY=1SU
END:STANDARD
BEGIN:DAYLIGHT
DTSTART:19700426T070000
TZOFFSETTO:-0400
TZOFFSETFROM:-0500
RRULE:FREQ=YEARLY;BYMONTH=3;BYDAY=2SU
END:DAYLIGHT
END:VTIMEZONE
BEGIN:VEVENT
UID:2026-ACG-NY-DE-I-SERIES-WINTER-EDITION
DTSTART;TZID=America/New_York:20260127T180002
DTEND;TZID=America/New_York:20260127T200013
STATUS:CONFIRMED
SUMMARY:2026 ACG NY Inclusion in the Middle Market Series - Winter Edition
DESCRIPTION:
LOCATION:Alliance Bernstein\n66 Hudson Boulevard East\nNew York\\, NY 10001
URL:https://www.acg.org/nyc/events/2026-acg-ny-inclusion-middle-market
 -series-winter-edition
DTSTAMP:20260420T091327Z
END:VEVENT
END:VCALENDAR
