BEGIN:VCALENDAR
VERSION:2.0
PRODID:-//ACG//Events//EN
CALSCALE:GREGORIAN
METHOD:PUBLISH
BEGIN:VTIMEZONE
TZID:America/Los_Angeles
BEGIN:STANDARD
DTSTART:19701025T090000
TZOFFSETTO:-0800
TZOFFSETFROM:-0700
RRULE:FREQ=YEARLY;BYMONTH=11;BYDAY=1SU
END:STANDARD
BEGIN:DAYLIGHT
DTSTART:19700426T100000
TZOFFSETTO:-0700
TZOFFSETFROM:-0800
RRULE:FREQ=YEARLY;BYMONTH=3;BYDAY=2SU
END:DAYLIGHT
END:VTIMEZONE
BEGIN:VEVENT
UID:2025-Y20-SEA-BEST-PRACTICES-IN-NETWORKING-AND-COMMUNICATION
DTSTART;TZID=America/Los_Angeles:20251022T170011
DTEND;TZID=America/Los_Angeles:20251022T190011
STATUS:CONFIRMED
SUMMARY:2025 Y20 SEA | Best Practices in Networking and Communication
DESCRIPTION:
LOCATION:Baker Tilly (previously Moss Adams office)\n999 3rd Avenue\nS
 eattle\\, WA 98104
URL:https://www.acg.org/seattle/events/2025-y20-sea-best-practices-net
 working-and-communication
DTSTAMP:20260421T005739Z
END:VEVENT
END:VCALENDAR
