BEGIN:VCALENDAR
VERSION:2.0
PRODID:-//ACG//Events//EN
CALSCALE:GREGORIAN
METHOD:PUBLISH
BEGIN:VTIMEZONE
TZID:America/Vancouver
BEGIN:STANDARD
DTSTART:19701025T090000
TZOFFSETTO:-0800
TZOFFSETFROM:-0700
RRULE:FREQ=YEARLY;BYMONTH=11;BYDAY=1SU
END:STANDARD
BEGIN:DAYLIGHT
DTSTART:19700426T100000
TZOFFSETTO:-0700
TZOFFSETFROM:-0800
RRULE:FREQ=YEARLY;BYMONTH=3;BYDAY=2SU
END:DAYLIGHT
END:VTIMEZONE
BEGIN:VEVENT
UID:2025BCLYOUNG-ACG-PRESENTS-CAPITAL-GAINS-AND-GUTTER-LANES
DTSTART;TZID=America/Vancouver:20251105T173015
DTEND;TZID=America/Vancouver:20251105T203015
STATUS:CONFIRMED
SUMMARY:2025 Young ACG Presents: Capital Gains and Gutter Lanes
DESCRIPTION:
LOCATION:Commodore Lanes\n838 Granville Street\nVancouver\\, BC V6Z 1K3
URL:https://www.acg.org/bc/events/2025-young-acg-presents-capital-gain
 s-and-gutter-lanes
DTSTAMP:20260420T185731Z
END:VEVENT
END:VCALENDAR
