BEGIN:VCALENDAR
VERSION:2.0
PRODID:-//ACG//Events//EN
CALSCALE:GREGORIAN
METHOD:PUBLISH
BEGIN:VTIMEZONE
TZID:America/New_York
BEGIN:STANDARD
DTSTART:19701025T060000
TZOFFSETTO:-0500
TZOFFSETFROM:-0400
RRULE:FREQ=YEARLY;BYMONTH=11;BYDAY=1SU
END:STANDARD
BEGIN:DAYLIGHT
DTSTART:19700426T070000
TZOFFSETTO:-0400
TZOFFSETFROM:-0500
RRULE:FREQ=YEARLY;BYMONTH=3;BYDAY=2SU
END:DAYLIGHT
END:VTIMEZONE
BEGIN:VEVENT
UID:YACG-ORLANDO-FALL-MIXER
DTSTART;TZID=America/New_York:20251029T173019
DTEND;TZID=America/New_York:20251029T193029
STATUS:CONFIRMED
SUMMARY:YACG Orlando Fall Mixer
DESCRIPTION:
LOCATION:Gravity Taproom\n777 North Orange Avenue\nOrlando\\, FL 32801
URL:https://www.acg.org/orlando/events/yacg-orlando-fall-mixer
DTSTAMP:20260420T205705Z
END:VEVENT
END:VCALENDAR
