BEGIN:VCALENDAR
VERSION:2.0
PRODID:-//ACG//Events//EN
CALSCALE:GREGORIAN
METHOD:PUBLISH
BEGIN:VTIMEZONE
TZID:America/Detroit
BEGIN:STANDARD
DTSTART:19700101T060000
TZOFFSETTO:-0500
TZOFFSETFROM:-0500
END:STANDARD
END:VTIMEZONE
BEGIN:VEVENT
UID:147510
DTSTART;TZID=America/Detroit:20251119T153000
DTEND;TZID=America/Detroit:20251119T173000
STATUS:CONFIRMED
SUMMARY:Corks & Conversation: Wine Tasting with Grand Vin!
DESCRIPTION:
LOCATION:BMO Commercial Bank\nBMO Commercial Bank\n37 Ottawa Ave\, NW\
 nSuite 650\nGrand Rapids\\, MI 49503
URL:https://www.acg.org/wmich/events/corks-conversation-wine-tasting-g
 rand-vin
DTSTAMP:20260420T181749Z
END:VEVENT
END:VCALENDAR
