BEGIN:VCALENDAR
VERSION:2.0
PRODID:-//ACG//Events//EN
CALSCALE:GREGORIAN
METHOD:PUBLISH
BEGIN:VTIMEZONE
TZID:America/New_York
BEGIN:STANDARD
DTSTART:19701025T060000
TZOFFSETTO:-0500
TZOFFSETFROM:-0400
RRULE:FREQ=YEARLY;BYMONTH=11;BYDAY=1SU
END:STANDARD
BEGIN:DAYLIGHT
DTSTART:19700426T070000
TZOFFSETTO:-0400
TZOFFSETFROM:-0500
RRULE:FREQ=YEARLY;BYMONTH=3;BYDAY=2SU
END:DAYLIGHT
END:VTIMEZONE
BEGIN:VEVENT
UID:2026-ACG-BOSTON-THE-BIG-DEAL-BY-INVITE
DTSTART;TZID=America/New_York:20260120T140011
DTEND;TZID=America/New_York:20260120T193034
STATUS:CONFIRMED
SUMMARY:2026 ACG Boston: The BIG Deal (by Invite)
DESCRIPTION:
LOCATION:Legal Harborside & Hyatt Place Boston / Seaport District\n270
  Northern Avenue\nBoston\\, MA 02210
URL:https://www.acg.org/boston/events/2026-acg-boston-big-deal-invite
DTSTAMP:20260420T105437Z
END:VEVENT
END:VCALENDAR
