BEGIN:VCALENDAR
VERSION:2.0
PRODID:-//ACG//Events//EN
CALSCALE:GREGORIAN
METHOD:PUBLISH
BEGIN:VTIMEZONE
TZID:America/New_York
BEGIN:STANDARD
DTSTART:19701025T060000
TZOFFSETTO:-0500
TZOFFSETFROM:-0400
RRULE:FREQ=YEARLY;BYMONTH=11;BYDAY=1SU
END:STANDARD
BEGIN:DAYLIGHT
DTSTART:19700426T070000
TZOFFSETTO:-0400
TZOFFSETFROM:-0500
RRULE:FREQ=YEARLY;BYMONTH=3;BYDAY=2SU
END:DAYLIGHT
END:VTIMEZONE
BEGIN:VEVENT
UID:2025-ACG-BOSTON-YOUNG-PROFESSIONALS-FALL-NETWORKING-NIGHT
DTSTART;TZID=America/New_York:20251113T173029
DTEND;TZID=America/New_York:20251113T193028
STATUS:CONFIRMED
SUMMARY:2025 ACG Boston: Young Professionals Fall Networking Night
DESCRIPTION:
LOCATION:Night Shift Brewing- Lovejoy Wharf\n1 Lovejoy Wharf\nBoston\\
 , MA 02114
URL:https://www.acg.org/boston/events/2025-acg-boston-young-profession
 als-fall-networking-night
DTSTAMP:20260420T203947Z
END:VEVENT
END:VCALENDAR
