BEGIN:VCALENDAR
VERSION:2.0
PRODID:-//ACG//Events//EN
CALSCALE:GREGORIAN
METHOD:PUBLISH
BEGIN:VTIMEZONE
TZID:America/New_York
BEGIN:STANDARD
DTSTART:19701025T060000
TZOFFSETTO:-0500
TZOFFSETFROM:-0400
RRULE:FREQ=YEARLY;BYMONTH=11;BYDAY=1SU
END:STANDARD
BEGIN:DAYLIGHT
DTSTART:19700426T070000
TZOFFSETTO:-0400
TZOFFSETFROM:-0500
RRULE:FREQ=YEARLY;BYMONTH=3;BYDAY=2SU
END:DAYLIGHT
END:VTIMEZONE
BEGIN:VEVENT
UID:THE-COFFEE-COLLECTIVE-OCTOBER-30
DTSTART;TZID=America/New_York:20251030T080058
DTEND;TZID=America/New_York:20251030T093010
STATUS:CONFIRMED
SUMMARY:The Coffee Collective - October 30
DESCRIPTION:
LOCATION:Dynasty Financial Partners\n200 Central Avenue\nSt. Petersbur
 g\\, FL 33701
URL:https://www.acg.org/tampabay/events/coffee-collective-october-30
DTSTAMP:20260420T205927Z
END:VEVENT
END:VCALENDAR
