BEGIN:VCALENDAR
VERSION:2.0
PRODID:-//ACG//Events//EN
CALSCALE:GREGORIAN
METHOD:PUBLISH
BEGIN:VTIMEZONE
TZID:America/Los_Angeles
BEGIN:STANDARD
DTSTART:19701025T090000
TZOFFSETTO:-0800
TZOFFSETFROM:-0700
RRULE:FREQ=YEARLY;BYMONTH=11;BYDAY=1SU
END:STANDARD
BEGIN:DAYLIGHT
DTSTART:19700426T100000
TZOFFSETTO:-0700
TZOFFSETFROM:-0800
RRULE:FREQ=YEARLY;BYMONTH=3;BYDAY=2SU
END:DAYLIGHT
END:VTIMEZONE
BEGIN:VEVENT
UID:ACGIE-JUMP-CONNECT-AN-EQUESTRIAN-CHAMPAGNE-BRUNCH-AT-GALWAY-DOWNS-
 10-31-2025
DTSTART;TZID=America/Los_Angeles:20251031T090013
DTEND;TZID=America/Los_Angeles:20251031T120013
STATUS:CONFIRMED
SUMMARY:ACGIE | Jump & Connect: An Equestrian Champagne Brunch At Galw
 ay Downs | 10.31.2025
DESCRIPTION:
LOCATION:Galway Downs Equestrian\n38801 Los Corralitos Road\nTemecula\
 \, CA 92592
URL:https://www.acg.org/inlandempire/events/acgie-jump-connect-equestr
 ian-champagne-brunch-galway-downs-10312025
DTSTAMP:20260420T210013Z
END:VEVENT
END:VCALENDAR
