BEGIN:VCALENDAR
VERSION:2.0
PRODID:-//ACG//Events//EN
CALSCALE:GREGORIAN
METHOD:PUBLISH
BEGIN:VTIMEZONE
TZID:America/New_York
BEGIN:STANDARD
DTSTART:19701025T060000
TZOFFSETTO:-0500
TZOFFSETFROM:-0400
RRULE:FREQ=YEARLY;BYMONTH=11;BYDAY=1SU
END:STANDARD
BEGIN:DAYLIGHT
DTSTART:19700426T070000
TZOFFSETTO:-0400
TZOFFSETFROM:-0500
RRULE:FREQ=YEARLY;BYMONTH=3;BYDAY=2SU
END:DAYLIGHT
END:VTIMEZONE
BEGIN:VEVENT
UID:2026-ACG-NY-WOMEN-OF-LEADERSHIP-SERIES-WINTER-EDITION
DTSTART;TZID=America/New_York:20260205T180012
DTEND;TZID=America/New_York:20260205T200012
STATUS:CONFIRMED
SUMMARY:2026 ACG NY Women of Leadership Series – Winter Edition
DESCRIPTION:
LOCATION:BarChef NYC\n21 West 35th Street\nNew York\\, NY 10018
URL:https://www.acg.org/nyc/events/2026-acg-ny-women-leadership-series
 -winter-edition
DTSTAMP:20260423T032959Z
END:VEVENT
END:VCALENDAR
