BEGIN:VCALENDAR
VERSION:2.0
PRODID:-//ACG//Events//EN
CALSCALE:GREGORIAN
METHOD:PUBLISH
BEGIN:VTIMEZONE
TZID:America/New_York
BEGIN:STANDARD
DTSTART:19701025T060000
TZOFFSETTO:-0500
TZOFFSETFROM:-0400
RRULE:FREQ=YEARLY;BYMONTH=11;BYDAY=1SU
END:STANDARD
BEGIN:DAYLIGHT
DTSTART:19700426T070000
TZOFFSETTO:-0400
TZOFFSETFROM:-0500
RRULE:FREQ=YEARLY;BYMONTH=3;BYDAY=2SU
END:DAYLIGHT
END:VTIMEZONE
BEGIN:VEVENT
UID:ACG-SOUTH-FLORIDA-WOMEN-CONNECT-GOLF-CLINIC-BREAKFAST-OCT-2025
DTSTART;TZID=America/New_York:20251021T090024
DTEND;TZID=America/New_York:20251021T113004
STATUS:CONFIRMED
SUMMARY:ACG South Florida Women Connect Golf Clinic & Breakfast (Oct. 2025)
DESCRIPTION:
LOCATION:Osprey Point Golf Course\n12551 Glades Road\nBoca Raton\\, FL
  33498
URL:https://www.acg.org/southflorida/events/acg-south-florida-women-co
 nnect-golf-clinic-breakfast-oct-2025
DTSTAMP:20260420T224809Z
END:VEVENT
END:VCALENDAR
