BEGIN:VCALENDAR
VERSION:2.0
PRODID:-//ACG//Events//EN
CALSCALE:GREGORIAN
METHOD:PUBLISH
BEGIN:VTIMEZONE
TZID:America/New_York
BEGIN:STANDARD
DTSTART:19701025T060000
TZOFFSETTO:-0500
TZOFFSETFROM:-0400
RRULE:FREQ=YEARLY;BYMONTH=11;BYDAY=1SU
END:STANDARD
BEGIN:DAYLIGHT
DTSTART:19700426T070000
TZOFFSETTO:-0400
TZOFFSETFROM:-0500
RRULE:FREQ=YEARLY;BYMONTH=3;BYDAY=2SU
END:DAYLIGHT
END:VTIMEZONE
BEGIN:VEVENT
UID:MIAMI-NETWORK-COFFEE-CONNECTIONS-NOVEMBER-2025
DTSTART;TZID=America/New_York:20251118T080001
DTEND;TZID=America/New_York:20251118T090031
STATUS:CONFIRMED
SUMMARY:Miami Network Coffee Connections: November 2025
DESCRIPTION:
LOCATION:Capital One Café - Miracle Mile\n50 Miracle Mile\nMiami\\, F
 L 33134
URL:https://www.acg.org/southflorida/events/miami-network-coffee-conne
 ctions-november-2025
DTSTAMP:20260420T183010Z
END:VEVENT
END:VCALENDAR
