BEGIN:VCALENDAR
VERSION:2.0
PRODID:-//ACG//Events//EN
CALSCALE:GREGORIAN
METHOD:PUBLISH
BEGIN:VTIMEZONE
TZID:US/Eastern
BEGIN:STANDARD
DTSTART:19701025T060000
TZOFFSETTO:-0500
TZOFFSETFROM:-0400
RRULE:FREQ=YEARLY;BYMONTH=11;BYDAY=1SU
END:STANDARD
BEGIN:DAYLIGHT
DTSTART:19700426T070000
TZOFFSETTO:-0400
TZOFFSETFROM:-0500
RRULE:FREQ=YEARLY;BYMONTH=3;BYDAY=2SU
END:DAYLIGHT
END:VTIMEZONE
BEGIN:VEVENT
UID:2025-ATLANTA-MOST-ADMIRED-CEO-AWARDS
DTSTART;TZID=US/Eastern:20251119T180041
DTEND;TZID=US/Eastern:20251119T213055
STATUS:CONFIRMED
SUMMARY:2025 Atlanta Most Admired CEO Awards
DESCRIPTION:
LOCATION:The Foundry at Puritan Mill\n916 Joseph E. Lowery Boulevard N
 orthwest\nAtlanta\\, GA 30318
URL:https://www.acg.org/atlanta/events/2025-atlanta-most-admired-ceo-awards
DTSTAMP:20260422T192152Z
END:VEVENT
END:VCALENDAR
